BEGIN:VCALENDAR
PRODID:-//http://statistik.d-u-v.org//PHP ultracalendar//EN
VERSION:2.0
METHOD:PUBLISH
BEGIN:VEVENT
DTSTAMP:20260419T140121
CREATED:20251222T212518
UID:1776607281.0.36252000-125244@statistik.d-u-v.org
SUMMARY:Southern Fried 50 Mile Race
DESCRIPTION: Southern Fried 50 Mile Race\n
  \n
  vikena[at]project42running.com
DTSTART:20260815T070000
DTEND:00000000T235900
LOCATION:Columbus, GA\, USA
URL:https://ultrasignup.com/register.aspx?did=130592
CATEGORIES:Ultramarathon
CONTACT:
CLASS:PUBLIC
PRIORITY:5
TRANSP:OPAQUE
END:VEVENT
END:VCALENDAR
