BEGIN:VCALENDAR
PRODID:-//http://statistik.d-u-v.org//PHP ultracalendar//EN
VERSION:2.0
METHOD:PUBLISH
BEGIN:VEVENT
DTSTAMP:20260419T164814
CREATED:20251222T143845
UID:1776617294.0.46257400-125210@statistik.d-u-v.org
SUMMARY:Terra Sans Pave - Terathlon 8-Hour
DESCRIPTION: Terra Sans Pave - Terathlon 8-Hour\n
  \n
  bill[at]runrace.net; michelle[at]runrace.net
DTSTART:20260822T073000
DTEND:00000000T235900
LOCATION:Morton Grove, IL\, USA
URL:https://runrace.net/terra/
CATEGORIES:Ultramarathon
CONTACT:
CLASS:PUBLIC
PRIORITY:5
TRANSP:OPAQUE
END:VEVENT
END:VCALENDAR
