BEGIN:VCALENDAR
PRODID:-//http://statistik.d-u-v.org//PHP ultracalendar//EN
VERSION:2.0
METHOD:PUBLISH
BEGIN:VEVENT
DTSTAMP:20260419T180902
CREATED:20251222T142647
UID:1776622142.0.57458300-125201@statistik.d-u-v.org
SUMMARY:Front Range Ultra Dayze 50km
DESCRIPTION: Front Range Ultra Dayze 50km\n
  \n
  info[at]ultraversupplements.com
DTSTART:20260905T100000
DTEND:20260906T235900
LOCATION:Loveland, CO\, USA
URL:https://ultrasignup.com/register.aspx?did=129777
CATEGORIES:Ultramarathon
CONTACT:
CLASS:PUBLIC
PRIORITY:5
TRANSP:OPAQUE
END:VEVENT
END:VCALENDAR
