BEGIN:VCALENDAR
PRODID:-//http://statistik.d-u-v.org//PHP ultracalendar//EN
VERSION:2.0
METHOD:PUBLISH
BEGIN:VEVENT
DTSTAMP:20260419T183349
CREATED:20251222T193838
UID:1776623629.0.81540200-125162@statistik.d-u-v.org
SUMMARY:Welcome Way Ultramarathon 34mi
DESCRIPTION: Welcome Way Ultramarathon 34mi\n
  Ryk Downes\n
  admin[at]punkpanther.co.uk
DTSTART:20260314T000000
DTEND:00000000T235900
LOCATION:Otley\, GBR
URL:https://punkpanther.co.uk
CATEGORIES:Ultramarathon
CONTACT:Ryk Downes
CLASS:PUBLIC
PRIORITY:5
TRANSP:OPAQUE
END:VEVENT
END:VCALENDAR
