BEGIN:VCALENDAR
PRODID:-//http://statistik.d-u-v.org//PHP ultracalendar//EN
VERSION:2.0
METHOD:PUBLISH
BEGIN:VEVENT
DTSTAMP:20260419T140123
CREATED:20251222T104317
UID:1776607283.0.36558700-125131@statistik.d-u-v.org
SUMMARY:Priest Lake Marathon 50k
DESCRIPTION: Priest Lake Marathon 50k\n
  Race Director Ken Eldore\n
  priestlakeinfo[at]gmail.com
DTSTART:20260912T070000
DTEND:00000000T235900
LOCATION:Priest Lake, ID\, USA
URL:https://runsignup.com/Race/ID/PriestLake/PriestLakeMarathon
CATEGORIES:Ultramarathon
CONTACT:Race Director Ken Eldore
CLASS:PUBLIC
PRIORITY:5
TRANSP:OPAQUE
END:VEVENT
END:VCALENDAR
