BEGIN:VCALENDAR
PRODID:-//http://statistik.d-u-v.org//PHP ultracalendar//EN
VERSION:2.0
METHOD:PUBLISH
BEGIN:VEVENT
DTSTAMP:20260419T121650
CREATED:20251222T092917
UID:1776601010.0.72531200-125082@statistik.d-u-v.org
SUMMARY:Utah 115
DESCRIPTION: Utah 115\n
  Tess Geddes\n
  tess[at]g2gultra.com
DTSTART:20260515T090000
DTEND:20260516T235900
LOCATION:Kanab, UT\, USA
URL:https://g2gultra.com/
CATEGORIES:Ultramarathon
CONTACT:Tess Geddes
CLASS:PUBLIC
PRIORITY:5
TRANSP:OPAQUE
END:VEVENT
END:VCALENDAR
