BEGIN:VCALENDAR
PRODID:-//http://statistik.d-u-v.org//PHP ultracalendar//EN
VERSION:2.0
METHOD:PUBLISH
BEGIN:VEVENT
DTSTAMP:20260419T135801
CREATED:20251222T014946
UID:1776607081.0.59757200-124993@statistik.d-u-v.org
SUMMARY:DC Peaks 50 Mi
DESCRIPTION: DC Peaks 50 Mi\n
  \n
  
DTSTART:20261003T050000
DTEND:00000000T235900
LOCATION:Kaysville, UT\, USA
URL:https://ultrasignup.com/register.aspx?did=131037
CATEGORIES:Ultramarathon
CONTACT:
CLASS:PUBLIC
PRIORITY:5
TRANSP:OPAQUE
END:VEVENT
END:VCALENDAR
