BEGIN:VCALENDAR
PRODID:-//http://statistik.d-u-v.org//PHP ultracalendar//EN
VERSION:2.0
METHOD:PUBLISH
BEGIN:VEVENT
DTSTAMP:20260419T173556
CREATED:20251222T014050
UID:1776620156.0.86045400-124982@statistik.d-u-v.org
SUMMARY:Sage Burner Trail Run
DESCRIPTION: Sage Burner Trail Run\n
  \n
  
DTSTART:20261003T080000
DTEND:00000000T235900
LOCATION:Gunnison, CO\, USA
URL:https://ultrasignup.com/register.aspx?did=131886
CATEGORIES:Ultramarathon
CONTACT:
CLASS:PUBLIC
PRIORITY:5
TRANSP:OPAQUE
END:VEVENT
END:VCALENDAR
