BEGIN:VCALENDAR
PRODID:-//http://statistik.d-u-v.org//PHP ultracalendar//EN
VERSION:2.0
METHOD:PUBLISH
BEGIN:VEVENT
DTSTAMP:20260419T185903
CREATED:20111127T191917
UID:1776625143.0.39494000-12498@statistik.d-u-v.org
SUMMARY:Les 24 heures de Royan
DESCRIPTION: Les 24 heures de Royan\n
  Daniel Fritzsch\n
  centkmcdb[at]yahoo.fr
DTSTART:20121006T000000
DTEND:20121007T235900
LOCATION:Royan\, FRA
URL:http://100km.iroyan.com
CATEGORIES:Ultramarathon
CONTACT:Daniel Fritzsch
CLASS:PUBLIC
PRIORITY:5
TRANSP:OPAQUE
END:VEVENT
END:VCALENDAR
