BEGIN:VCALENDAR
PRODID:-//http://statistik.d-u-v.org//PHP ultracalendar//EN
VERSION:2.0
METHOD:PUBLISH
BEGIN:VEVENT
DTSTAMP:20260419T192514
CREATED:20251222T013524
UID:1776626714.0.63030600-124976@statistik.d-u-v.org
SUMMARY:Cape Fear 24 Hour Endurance Run
DESCRIPTION: Cape Fear 24 Hour Endurance Run\n
  \n
  
DTSTART:20261010T080000
DTEND:20261011T080000
LOCATION:Lillington, NC\, USA
URL:https://ultrasignup.com/register.aspx?did=133758
CATEGORIES:Ultramarathon
CONTACT:
CLASS:PUBLIC
PRIORITY:5
TRANSP:OPAQUE
END:VEVENT
END:VCALENDAR
