BEGIN:VCALENDAR
PRODID:-//http://statistik.d-u-v.org//PHP ultracalendar//EN
VERSION:2.0
METHOD:PUBLISH
BEGIN:VEVENT
DTSTAMP:20260419T173708
CREATED:20251222T013314
UID:1776620228.0.79962200-124974@statistik.d-u-v.org
SUMMARY:Sasquatch Shuffle TX 50 km Race
DESCRIPTION: Sasquatch Shuffle TX 50 km Race\n
  \n
  allthetrails[at]gmail.com
DTSTART:20261010T000000
DTEND:00000000T235900
LOCATION:McCall, ID\, USA
URL:https://ultrasignup.com/register.aspx?did=133210
CATEGORIES:Ultramarathon
CONTACT:
CLASS:PUBLIC
PRIORITY:5
TRANSP:OPAQUE
END:VEVENT
END:VCALENDAR
