BEGIN:VCALENDAR
PRODID:-//http://statistik.d-u-v.org//PHP ultracalendar//EN
VERSION:2.0
METHOD:PUBLISH
BEGIN:VEVENT
DTSTAMP:20260419T173659
CREATED:20251222T012951
UID:1776620219.0.18490800-124970@statistik.d-u-v.org
SUMMARY:Des Plaines River 50 Miles Trail Race
DESCRIPTION: Des Plaines River 50 Miles Trail Race\n
  Terry Madl or Ed Kelly\n
  tmmad1[at]aol.com
DTSTART:20261010T070000
DTEND:00000000T235900
LOCATION:Libertyville, IL\, USA
URL:https://ultrasignup.com/register.aspx?did=133656
CATEGORIES:Ultramarathon
CONTACT:Terry Madl or Ed Kelly
CLASS:PUBLIC
PRIORITY:5
TRANSP:OPAQUE
END:VEVENT
END:VCALENDAR
