BEGIN:VCALENDAR
PRODID:-//http://statistik.d-u-v.org//PHP ultracalendar//EN
VERSION:2.0
METHOD:PUBLISH
BEGIN:VEVENT
DTSTAMP:20260419T173705
CREATED:20251222T012229
UID:1776620225.0.56412600-124964@statistik.d-u-v.org
SUMMARY:Rocky Gap 50k
DESCRIPTION: Rocky Gap 50k\n
  \n
  info[at]ex2adventures.com
DTSTART:20261011T083000
DTEND:00000000T235900
LOCATION:Flintstone, MD\, USA
URL:https://runsignup.com/Race/MD/Flintstone/RockyGap25K50KRelayTrailRun
CATEGORIES:Ultramarathon
CONTACT:
CLASS:PUBLIC
PRIORITY:5
TRANSP:OPAQUE
END:VEVENT
END:VCALENDAR
