BEGIN:VCALENDAR
PRODID:-//http://statistik.d-u-v.org//PHP ultracalendar//EN
VERSION:2.0
METHOD:PUBLISH
BEGIN:VEVENT
DTSTAMP:20260419T173720
CREATED:20251222T011235
UID:1776620240.0.11281200-124960@statistik.d-u-v.org
SUMMARY:Surf the Murph 50 Mile Run
DESCRIPTION: Surf the Murph 50 Mile Run\n
  Jessica Cole\n
  information[at]surfthemurph.org
DTSTART:20261017T060000
DTEND:00000000T235900
LOCATION:Savage, MN\, USA
URL:https://www.surfthemurph.org/
CATEGORIES:Ultramarathon
CONTACT:Jessica Cole
CLASS:PUBLIC
PRIORITY:5
TRANSP:OPAQUE
END:VEVENT
END:VCALENDAR
