BEGIN:VCALENDAR
PRODID:-//http://statistik.d-u-v.org//PHP ultracalendar//EN
VERSION:2.0
METHOD:PUBLISH
BEGIN:VEVENT
DTSTAMP:20260419T202951
CREATED:20251222T005425
UID:1776630591.0.01954700-124949@statistik.d-u-v.org
SUMMARY:Hare Mountain 100 - 60 Km
DESCRIPTION: Hare Mountain 100 - 60 Km\n
  \n
  haremountain100[at]gmail.com
DTSTART:20261023T070000
DTEND:00000000T235900
LOCATION:Clarksville, AR\, USA
URL:https://ultrasignup.com/register.aspx?did=131719
CATEGORIES:Ultramarathon
CONTACT:
CLASS:PUBLIC
PRIORITY:5
TRANSP:OPAQUE
END:VEVENT
END:VCALENDAR
