BEGIN:VCALENDAR
PRODID:-//http://statistik.d-u-v.org//PHP ultracalendar//EN
VERSION:2.0
METHOD:PUBLISH
BEGIN:VEVENT
DTSTAMP:20260419T140022
CREATED:20251222T003935
UID:1776607222.0.59576300-124935@statistik.d-u-v.org
SUMMARY:Pumpkin Holler 100 Km Race
DESCRIPTION: Pumpkin Holler 100 Km Race\n
  \n
  info[at]ph100.run
DTSTART:20261017T080000
DTEND:20261018T235900
LOCATION:Tahlequah, OK\, USA
URL:https://ultrasignup.com/register.aspx?did=131951
CATEGORIES:Ultramarathon
CONTACT:
CLASS:PUBLIC
PRIORITY:5
TRANSP:OPAQUE
END:VEVENT
END:VCALENDAR
