BEGIN:VCALENDAR
PRODID:-//http://statistik.d-u-v.org//PHP ultracalendar//EN
VERSION:2.0
METHOD:PUBLISH
BEGIN:VEVENT
DTSTAMP:20260419T140007
CREATED:20251222T003625
UID:1776607207.0.50543000-124932@statistik.d-u-v.org
SUMMARY:Mines of Spain 100 Mile Race
DESCRIPTION: Mines of Spain 100 Mile Race\n
  \n
  minesofspain100[at]gmail.com
DTSTART:20261016T080000
DTEND:20261017T235900
LOCATION:Dubuque, IA\, USA
URL:https://ultrasignup.com/register.aspx?did=131474
CATEGORIES:Ultramarathon
CONTACT:
CLASS:PUBLIC
PRIORITY:5
TRANSP:OPAQUE
END:VEVENT
END:VCALENDAR
