BEGIN:VCALENDAR
PRODID:-//http://statistik.d-u-v.org//PHP ultracalendar//EN
VERSION:2.0
METHOD:PUBLISH
BEGIN:VEVENT
DTSTAMP:20260419T140004
CREATED:20251222T002943
UID:1776607204.0.29830800-124928@statistik.d-u-v.org
SUMMARY:Cactus Rose 50 Mile
DESCRIPTION: Cactus Rose 50 Mile\n
  Chris McWatters\n
  chris[at]tejastrails.com
DTSTART:20261024T050000
DTEND:20261025T235900
LOCATION:Bandera, TX\, USA
URL:https://runsignup.com/Race/TX/Bandera/CactusRoseUltraTrailRelay
CATEGORIES:Ultramarathon
CONTACT:Chris McWatters
CLASS:PUBLIC
PRIORITY:5
TRANSP:OPAQUE
END:VEVENT
END:VCALENDAR
