BEGIN:VCALENDAR
PRODID:-//http://statistik.d-u-v.org//PHP ultracalendar//EN
VERSION:2.0
METHOD:PUBLISH
BEGIN:VEVENT
DTSTAMP:20260419T140032
CREATED:20251221T233636
UID:1776607232.0.79249800-124895@statistik.d-u-v.org
SUMMARY:Tunnel Hill 100 Mile Race
DESCRIPTION: Tunnel Hill 100 Mile Race\n
  Steve Durbin\n
  durb417[at]gmail.com
DTSTART:20261107T070000
DTEND:20261108T130000
LOCATION:Vienna, IL\, USA
URL:https://ultrasignup.com/register.aspx?did=133326
CATEGORIES:Ultramarathon
CONTACT:Steve Durbin
CLASS:PUBLIC
PRIORITY:5
TRANSP:OPAQUE
END:VEVENT
END:VCALENDAR
