BEGIN:VCALENDAR
PRODID:-//http://statistik.d-u-v.org//PHP ultracalendar//EN
VERSION:2.0
METHOD:PUBLISH
BEGIN:VEVENT
DTSTAMP:20260419T121531
CREATED:20251219T103035
UID:1776600931.0.87734200-124780@statistik.d-u-v.org
SUMMARY:Kings Backyard Ultra
DESCRIPTION: Kings Backyard Ultra\n
  \n
  info[at]hisandhersevents.co.nz 
DTSTART:20260530T090000
DTEND:00000000T235900
LOCATION:Whangarei\, NZL
URL:https://hisandhersevents.co.nz/kings-backyard-ultra/
CATEGORIES:Ultramarathon
CONTACT:
CLASS:PUBLIC
PRIORITY:5
TRANSP:OPAQUE
END:VEVENT
END:VCALENDAR
