BEGIN:VCALENDAR
PRODID:-//http://statistik.d-u-v.org//PHP ultracalendar//EN
VERSION:2.0
METHOD:PUBLISH
BEGIN:VEVENT
DTSTAMP:20260419T200539
CREATED:20251217T154915
UID:1776629139.0.67475800-124674@statistik.d-u-v.org
SUMMARY:Palmas RAP Backyard
DESCRIPTION: Palmas RAP Backyard\n
  Rafael Almeida Performance\n
  rafaelmoraesalmeida85[at]gmail.com
DTSTART:20250705T070000
DTEND:20250706T140000
LOCATION:Palmas, TO\, BRA
URL:https://www.ticketsports.com.br/e/palmas-rap-backyard-71751
CATEGORIES:Ultramarathon
CONTACT:Rafael Almeida Performance
CLASS:PUBLIC
PRIORITY:5
TRANSP:OPAQUE
END:VEVENT
END:VCALENDAR
