BEGIN:VCALENDAR
PRODID:-//http://statistik.d-u-v.org//PHP ultracalendar//EN
VERSION:2.0
METHOD:PUBLISH
BEGIN:VEVENT
DTSTAMP:20260424T131624
CREATED:20251217T095021
UID:1777036584.0.99090200-124667@statistik.d-u-v.org
SUMMARY:Belfast to Derry/Londonderry 75Mile
DESCRIPTION: Belfast to Derry/Londonderry 75Mile\n
  Gary Connolly\n
  info[at]werunwildni.com
DTSTART:20260411T120000
DTEND:20260412T235900
LOCATION:Belfast\, GBR
URL:http://www.werunwildni.com
CATEGORIES:Ultramarathon
CONTACT:Gary Connolly
CLASS:PUBLIC
PRIORITY:5
TRANSP:OPAQUE
END:VEVENT
END:VCALENDAR
