BEGIN:VCALENDAR
PRODID:-//http://statistik.d-u-v.org//PHP ultracalendar//EN
VERSION:2.0
METHOD:PUBLISH
BEGIN:VEVENT
DTSTAMP:20260419T121530
CREATED:20251217T092051
UID:1776600930.0.60309000-124664@statistik.d-u-v.org
SUMMARY:Epona 100 Miler
DESCRIPTION: Epona 100 Miler\n
  \n
  info[at]epona100.com
DTSTART:20260509T060000
DTEND:20260511T080000
LOCATION:Abergavenny\, GBR
URL:https://www.epona100.com/
CATEGORIES:Ultramarathon
CONTACT:
CLASS:PUBLIC
PRIORITY:5
TRANSP:OPAQUE
END:VEVENT
END:VCALENDAR
