BEGIN:VCALENDAR
PRODID:-//http://statistik.d-u-v.org//PHP ultracalendar//EN
VERSION:2.0
METHOD:PUBLISH
BEGIN:VEVENT
DTSTAMP:20260419T171429
CREATED:20251217T085105
UID:1776618869.0.98510200-124657@statistik.d-u-v.org
SUMMARY:Race to the King - Coastal 50k
DESCRIPTION: Race to the King - Coastal 50k\n
  Ed Scott\n
  info[at]racetotheking.com
DTSTART:20260620T000000
DTEND:00000000T235900
LOCATION:Goodwood\, GBR
URL:https://www.thresholdtrailseries.com/events/race-to-the-king/
CATEGORIES:Ultramarathon
CONTACT:Ed Scott
CLASS:PUBLIC
PRIORITY:5
TRANSP:OPAQUE
END:VEVENT
END:VCALENDAR
