BEGIN:VCALENDAR
PRODID:-//http://statistik.d-u-v.org//PHP ultracalendar//EN
VERSION:2.0
METHOD:PUBLISH
BEGIN:VEVENT
DTSTAMP:20260423T033657
CREATED:20251217T013012
UID:1776915417.0.92650900-124639@statistik.d-u-v.org
SUMMARY:Pain in the Neck
DESCRIPTION: Pain in the Neck\n
  \n
  
DTSTART:20180203T000000
DTEND:00000000T235900
LOCATION:Cambridge, MD\, USA
URL:https://ultrarunning.com/calendar/event/pain-in-the-neck
CATEGORIES:Ultramarathon
CONTACT:
CLASS:PUBLIC
PRIORITY:5
TRANSP:OPAQUE
END:VEVENT
END:VCALENDAR
