BEGIN:VCALENDAR
PRODID:-//http://statistik.d-u-v.org//PHP ultracalendar//EN
VERSION:2.0
METHOD:PUBLISH
BEGIN:VEVENT
DTSTAMP:20260420T040140
CREATED:20251216T010451
UID:1776657700.0.13482800-124616@statistik.d-u-v.org
SUMMARY:Gone Nuts 101 Km Ultra
DESCRIPTION: Gone Nuts 101 Km Ultra\n
  Michael Phillips\n
  info[at]gonenuts.com.au
DTSTART:20260228T060000
DTEND:00000000T235900
LOCATION:Stanley, TAS\, AUS
URL:https://www.gonenuts.com.au/
CATEGORIES:Ultramarathon
CONTACT:Michael Phillips
CLASS:PUBLIC
PRIORITY:5
TRANSP:OPAQUE
END:VEVENT
END:VCALENDAR
