BEGIN:VCALENDAR
PRODID:-//http://statistik.d-u-v.org//PHP ultracalendar//EN
VERSION:2.0
METHOD:PUBLISH
BEGIN:VEVENT
DTSTAMP:20260419T121534
CREATED:20251108T210836
UID:1776600934.0.42618500-124598@statistik.d-u-v.org
SUMMARY:Alol' Ultra Trail 2026 Unreal
DESCRIPTION: Alol' Ultra Trail 2026 Unreal\n
  Lobanov Vyacheslav\n
  info[at]edge-ultra.ru
DTSTART:20260522T160000
DTEND:20260523T235900
LOCATION:Alol, Pustoshkinsky district\, RUS
URL:https://edge-ultra.ru
CATEGORIES:Ultramarathon
CONTACT:Lobanov Vyacheslav
CLASS:PUBLIC
PRIORITY:5
TRANSP:OPAQUE
END:VEVENT
END:VCALENDAR
