BEGIN:VCALENDAR
PRODID:-//http://statistik.d-u-v.org//PHP ultracalendar//EN
VERSION:2.0
METHOD:PUBLISH
BEGIN:VEVENT
DTSTAMP:20260425T195240
CREATED:20251231T012228
UID:1777146760.0.65493600-124596@statistik.d-u-v.org
SUMMARY:50 km Lauf Hirtenberg
DESCRIPTION: 50 km Lauf Hirtenberg\n
  Leo Halletz\n
  
DTSTART:19780630T000000
DTEND:00000000T235900
LOCATION:Hirtenberg\, AUT
URL:
CATEGORIES:Ultramarathon
CONTACT:Leo Halletz
CLASS:PUBLIC
PRIORITY:5
TRANSP:OPAQUE
END:VEVENT
END:VCALENDAR
