BEGIN:VCALENDAR
PRODID:-//http://statistik.d-u-v.org//PHP ultracalendar//EN
VERSION:2.0
METHOD:PUBLISH
BEGIN:VEVENT
DTSTAMP:20260419T121545
CREATED:20251127T134702
UID:1776600945.0.89749900-124565@statistik.d-u-v.org
SUMMARY:Sri Chinmoy Self-Transcendence 100km-Lauf Samorin
DESCRIPTION: Sri Chinmoy Self-Transcendence 100km-Lauf Samorin\n
  Pranjal Milovnik\n
  scmt[at]scmt.sk
DTSTART:20260530T070000
DTEND:00000000T235900
LOCATION:Samorin\, SVK
URL:https://cs.srichinmoyraces.org/6h-12h-100km
CATEGORIES:Ultramarathon
CONTACT:Pranjal Milovnik
CLASS:PUBLIC
PRIORITY:5
TRANSP:OPAQUE
END:VEVENT
END:VCALENDAR
