BEGIN:VCALENDAR
PRODID:-//http://statistik.d-u-v.org//PHP ultracalendar//EN
VERSION:2.0
METHOD:PUBLISH
BEGIN:VEVENT
DTSTAMP:20260419T173714
CREATED:20251205T073336
UID:1776620234.0.83467600-124555@statistik.d-u-v.org
SUMMARY:EicUt 65
DESCRIPTION: EicUt 65\n
  Christoph Kroll\n
  chris.sc268[at]t-online.de
DTSTART:20261114T080000
DTEND:00000000T235900
LOCATION:Heilbad Heiligenstadt\, GER
URL:http://www.ltv-obereichsfeld.de/eicut/
CATEGORIES:Ultramarathon
CONTACT:Christoph Kroll
CLASS:PUBLIC
PRIORITY:5
TRANSP:OPAQUE
END:VEVENT
END:VCALENDAR
