BEGIN:VCALENDAR
PRODID:-//http://statistik.d-u-v.org//PHP ultracalendar//EN
VERSION:2.0
METHOD:PUBLISH
BEGIN:VEVENT
DTSTAMP:20260419T140102
CREATED:20251207T190209
UID:1776607262.0.46322000-124551@statistik.d-u-v.org
SUMMARY:TMMTR - TransMoravian Masochist Trail Run
DESCRIPTION: TMMTR - TransMoravian Masochist Trail Run\n
  Daniel Orálek\n
  dao[at]anet-brno.cz
DTSTART:20260711T020000
DTEND:20260712T080000
LOCATION:Lomnice\, CZE
URL:https://tmmtr.ultracau.cz
CATEGORIES:Ultramarathon
CONTACT:Daniel Orálek
CLASS:PUBLIC
PRIORITY:5
TRANSP:OPAQUE
END:VEVENT
END:VCALENDAR
