BEGIN:VCALENDAR
PRODID:-//http://statistik.d-u-v.org//PHP ultracalendar//EN
VERSION:2.0
METHOD:PUBLISH
BEGIN:VEVENT
DTSTAMP:20260419T213429
CREATED:20251214T100947
UID:1776634469.0.83060200-124528@statistik.d-u-v.org
SUMMARY:RunFluent Christmas
DESCRIPTION: RunFluent Christmas\n
  \n
  
DTSTART:20251213T080000
DTEND:00000000T235900
LOCATION:Lutz, FL\, USA
URL:https://ultrasignup.com/register.aspx?did=125447
CATEGORIES:Ultramarathon
CONTACT:
CLASS:PUBLIC
PRIORITY:5
TRANSP:OPAQUE
END:VEVENT
END:VCALENDAR
