BEGIN:VCALENDAR
PRODID:-//http://statistik.d-u-v.org//PHP ultracalendar//EN
VERSION:2.0
METHOD:PUBLISH
BEGIN:VEVENT
DTSTAMP:20260419T193903
CREATED:20251212T171554
UID:1776627543.0.90514300-124497@statistik.d-u-v.org
SUMMARY:Swamp Fox Ultra 210mi
DESCRIPTION: Swamp Fox Ultra 210mi\n
  \n
  eagle.endurance[at]gmail.com
DTSTART:20191031T120000
DTEND:20191103T150000
LOCATION:McClellanville, SC\, USA
URL:http://www.eagle-endurance.com/home.html
CATEGORIES:Ultramarathon
CONTACT:
CLASS:PUBLIC
PRIORITY:5
TRANSP:OPAQUE
END:VEVENT
END:VCALENDAR
