BEGIN:VCALENDAR
PRODID:-//http://statistik.d-u-v.org//PHP ultracalendar//EN
VERSION:2.0
METHOD:PUBLISH
BEGIN:VEVENT
DTSTAMP:20260423T024957
CREATED:20251211T132151
UID:1776912597.0.97268600-124467@statistik.d-u-v.org
SUMMARY:Coventry Woods Trail Running Festival
DESCRIPTION: Coventry Woods Trail Running Festival\n
  \n
  
DTSTART:20160611T000000
DTEND:00000000T235900
LOCATION:Pottstown, PA\, USA
URL:https://chestercountyrunningstore.rsupartner.com/
CATEGORIES:Ultramarathon
CONTACT:
CLASS:PUBLIC
PRIORITY:5
TRANSP:OPAQUE
END:VEVENT
END:VCALENDAR
