BEGIN:VCALENDAR
PRODID:-//http://statistik.d-u-v.org//PHP ultracalendar//EN
VERSION:2.0
METHOD:PUBLISH
BEGIN:VEVENT
DTSTAMP:20260419T195335
CREATED:20251209T190611
UID:1776628415.0.42066900-124434@statistik.d-u-v.org
SUMMARY:Tower Tag Challenge
DESCRIPTION: Tower Tag Challenge\n
  \n
  steependurance[at]gmail.com
DTSTART:20251206T080000
DTEND:00000000T235900
LOCATION:Hamden, CT\, USA
URL:https://ultrasignup.com/register.aspx?did=123453
CATEGORIES:Ultramarathon
CONTACT:
CLASS:PUBLIC
PRIORITY:5
TRANSP:OPAQUE
END:VEVENT
END:VCALENDAR
