BEGIN:VCALENDAR
PRODID:-//http://statistik.d-u-v.org//PHP ultracalendar//EN
VERSION:2.0
METHOD:PUBLISH
BEGIN:VEVENT
DTSTAMP:20260424T172640
CREATED:20251209T184134
UID:1777051600.0.66535200-124431@statistik.d-u-v.org
SUMMARY:The Hitchcock Experience 100 Miles
DESCRIPTION: The Hitchcock Experience 100 Miles\n
  Race Directors: Scott Giddings, Ron Ruhs\n
  hitchcockhundred[at]irunwithgoats.org
DTSTART:20251206T050000
DTEND:20251207T235900
LOCATION:Honey Creek, IA\, USA
URL:https://ultrasignup.com/register.aspx?did=125441
CATEGORIES:Ultramarathon
CONTACT:Race Directors: Scott Giddings, Ron Ruhs
CLASS:PUBLIC
PRIORITY:5
TRANSP:OPAQUE
END:VEVENT
END:VCALENDAR
