BEGIN:VCALENDAR
PRODID:-//http://statistik.d-u-v.org//PHP ultracalendar//EN
VERSION:2.0
METHOD:PUBLISH
BEGIN:VEVENT
DTSTAMP:20260422T084444
CREATED:20251208T085255
UID:1776847484.0.42998900-124416@statistik.d-u-v.org
SUMMARY:1. BP100 jótékonysági futóverseny 100 mile - 1. BP100 charity running race 
DESCRIPTION: 1. BP100 jótékonysági futóverseny 100 mile - 1. BP100 charity running race \n
  Gusztos Péter\n
  nonprofit[at]suhanj.hu
DTSTART:20251018T070000
DTEND:20251019T080000
LOCATION:Budapest\, HUN
URL:https://bp100.suhanj.hu/
CATEGORIES:Ultramarathon
CONTACT:Gusztos Péter
CLASS:PUBLIC
PRIORITY:5
TRANSP:OPAQUE
END:VEVENT
END:VCALENDAR
