BEGIN:VCALENDAR
PRODID:-//http://statistik.d-u-v.org//PHP ultracalendar//EN
VERSION:2.0
METHOD:PUBLISH
BEGIN:VEVENT
DTSTAMP:20260425T190624
CREATED:20251207T135832
UID:1777143984.0.55138500-124391@statistik.d-u-v.org
SUMMARY:Falcon Fatass 50km
DESCRIPTION: Falcon Fatass 50km\n
  \n
  
DTSTART:20180811T000000
DTEND:00000000T235900
LOCATION:Falcon Lake, MB\, CAN
URL:https://ultrarunning.com/calendar/event/falcon-fatass
CATEGORIES:Ultramarathon
CONTACT:
CLASS:PUBLIC
PRIORITY:5
TRANSP:OPAQUE
END:VEVENT
END:VCALENDAR
