BEGIN:VCALENDAR
PRODID:-//http://statistik.d-u-v.org//PHP ultracalendar//EN
VERSION:2.0
METHOD:PUBLISH
BEGIN:VEVENT
DTSTAMP:20260423T041216
CREATED:20251206T102458
UID:1776917536.0.69666100-124380@statistik.d-u-v.org
SUMMARY:135 Mile to the House
DESCRIPTION: 135 Mile to the House\n
  Jimmy Gabany\n
  elementalrunning[at]gmail.com
DTSTART:20140927T060000
DTEND:20140928T180000
LOCATION:Bakersfield, CA\, USA
URL:http://135tothehouse.com/
CATEGORIES:Ultramarathon
CONTACT:Jimmy Gabany
CLASS:PUBLIC
PRIORITY:5
TRANSP:OPAQUE
END:VEVENT
END:VCALENDAR
