BEGIN:VCALENDAR
PRODID:-//http://statistik.d-u-v.org//PHP ultracalendar//EN
VERSION:2.0
METHOD:PUBLISH
BEGIN:VEVENT
DTSTAMP:20260419T223144
CREATED:20251203T114706
UID:1776637904.0.96175200-124352@statistik.d-u-v.org
SUMMARY:Valley of Fire Backcountry（Fire Fest Ultra）
DESCRIPTION: Valley of Fire Backcountry（Fire Fest Ultra）\n
  \n
  info[at]tripledareruns.com
DTSTART:20221106T070000
DTEND:00000000T235900
LOCATION:Logandale, NV\, USA
URL:http://www.tripledareruns.com
CATEGORIES:Ultramarathon
CONTACT:
CLASS:PUBLIC
PRIORITY:5
TRANSP:OPAQUE
END:VEVENT
END:VCALENDAR
