BEGIN:VCALENDAR
PRODID:-//http://statistik.d-u-v.org//PHP ultracalendar//EN
VERSION:2.0
METHOD:PUBLISH
BEGIN:VEVENT
DTSTAMP:20260420T031936
CREATED:20251130T143140
UID:1776655176.0.18483600-124318@statistik.d-u-v.org
SUMMARY:Race for R.A.R.E.
DESCRIPTION: Race for R.A.R.E.\n
  \n
  
DTSTART:20150328T000000
DTEND:00000000T235900
LOCATION:Gastonia, NC\, USA
URL:https://ultrarunning.com/calendar/event/race-for-r-a-r-e/race/11470/results
CATEGORIES:Ultramarathon
CONTACT:
CLASS:PUBLIC
PRIORITY:5
TRANSP:OPAQUE
END:VEVENT
END:VCALENDAR
