BEGIN:VCALENDAR
PRODID:-//http://statistik.d-u-v.org//PHP ultracalendar//EN
VERSION:2.0
METHOD:PUBLISH
BEGIN:VEVENT
DTSTAMP:20260419T195317
CREATED:20251123T193855
UID:1776628397.0.83781400-124299@statistik.d-u-v.org
SUMMARY:6h Adventslauf
DESCRIPTION: 6h Adventslauf\n
  \n
  tekkelpower[at]web.de
DTSTART:20251130T090000
DTEND:00000000T235900
LOCATION:Langenhagen\, GER
URL:https://my.raceresult.com/319707/info
CATEGORIES:Ultramarathon
CONTACT:
CLASS:PUBLIC
PRIORITY:5
TRANSP:OPAQUE
END:VEVENT
END:VCALENDAR
