BEGIN:VCALENDAR
PRODID:-//http://statistik.d-u-v.org//PHP ultracalendar//EN
VERSION:2.0
METHOD:PUBLISH
BEGIN:VEVENT
DTSTAMP:20260421T143123
CREATED:20251119T171515
UID:1776781883.0.44490000-124295@statistik.d-u-v.org
SUMMARY:Bad Salzufler Stadtforst Ultra
DESCRIPTION: Bad Salzufler Stadtforst Ultra\n
  Matthias Probst\n
  matthias[at]probst.tv
DTSTART:20260228T090000
DTEND:00000000T235900
LOCATION:Bad Salzuflen\, GER
URL:https://my.raceresult.com/371883/
CATEGORIES:Ultramarathon
CONTACT:Matthias Probst
CLASS:PUBLIC
PRIORITY:5
TRANSP:OPAQUE
END:VEVENT
END:VCALENDAR
