BEGIN:VCALENDAR
PRODID:-//http://statistik.d-u-v.org//PHP ultracalendar//EN
VERSION:2.0
METHOD:PUBLISH
BEGIN:VEVENT
DTSTAMP:20260419T234434
CREATED:20251128T131943
UID:1776642274.0.06773400-124283@statistik.d-u-v.org
SUMMARY:Last at the Lake Last Man Standing Run
DESCRIPTION: Last at the Lake Last Man Standing Run\n
  \n
  
DTSTART:20170722T080000
DTEND:00000000T235900
LOCATION:West Point Lake, GA\, USA
URL:https://www.facebook.com/Last-at-the-Lake-173218186780338/
CATEGORIES:Ultramarathon
CONTACT:
CLASS:PUBLIC
PRIORITY:5
TRANSP:OPAQUE
END:VEVENT
END:VCALENDAR
