BEGIN:VCALENDAR
PRODID:-//http://statistik.d-u-v.org//PHP ultracalendar//EN
VERSION:2.0
METHOD:PUBLISH
BEGIN:VEVENT
DTSTAMP:20260419T205117
CREATED:20251124T171131
UID:1776631877.0.81872700-124239@statistik.d-u-v.org
SUMMARY:Lake Haigler 12-Hour
DESCRIPTION: Lake Haigler 12-Hour\n
  Race Director Craig Marshall\n
  rockhillstriders[at]gmail.com
DTSTART:20251122T120000
DTEND:20251123T235900
LOCATION:Fort Mill, SC\, USA
URL:https://ultrasignup.com/register.aspx?did=116222
CATEGORIES:Ultramarathon
CONTACT:Race Director Craig Marshall
CLASS:PUBLIC
PRIORITY:5
TRANSP:OPAQUE
END:VEVENT
END:VCALENDAR
