BEGIN:VCALENDAR
PRODID:-//http://statistik.d-u-v.org//PHP ultracalendar//EN
VERSION:2.0
METHOD:PUBLISH
BEGIN:VEVENT
DTSTAMP:20260422T050331
CREATED:20251122T201201
UID:1776834211.0.72563400-124181@statistik.d-u-v.org
SUMMARY:Trail Du Ventoux - L'Origine
DESCRIPTION: Trail Du Ventoux - L'Origine\n
  \n
  ventouxorganisation[at]orange.fr; c.grouiller[at]orange.fr
DTSTART:20260328T081500
DTEND:00000000T235900
LOCATION:Bedoin\, FRA
URL:https://trailduventoux.fr/
CATEGORIES:Ultramarathon
CONTACT:
CLASS:PUBLIC
PRIORITY:5
TRANSP:OPAQUE
END:VEVENT
END:VCALENDAR
