BEGIN:VCALENDAR
PRODID:-//http://statistik.d-u-v.org//PHP ultracalendar//EN
VERSION:2.0
METHOD:PUBLISH
BEGIN:VEVENT
DTSTAMP:20260419T121556
CREATED:20251121T132210
UID:1776600956.0.18301100-124122@statistik.d-u-v.org
SUMMARY:Scafell Sky Ultra
DESCRIPTION: Scafell Sky Ultra\n
  Charles Sproson\n
  charlie@mountainrun.co.uk
DTSTART:20260606T060000
DTEND:00000000T235900
LOCATION:Great Langdale\, GBR
URL:https://www.lakedistrictskytrails.com
CATEGORIES:Ultramarathon
CONTACT:Charles Sproson
CLASS:PUBLIC
PRIORITY:5
TRANSP:OPAQUE
END:VEVENT
END:VCALENDAR
