BEGIN:VCALENDAR
PRODID:-//http://statistik.d-u-v.org//PHP ultracalendar//EN
VERSION:2.0
METHOD:PUBLISH
BEGIN:VEVENT
DTSTAMP:20260419T121651
CREATED:20251121T122744
UID:1776601011.0.72500100-124119@statistik.d-u-v.org
SUMMARY:West Highland Way & Ben Nevis Race
DESCRIPTION: West Highland Way & Ben Nevis Race\n
  Jim Drummond\n
  whwchallengerace[at]hotmail.co.uk
DTSTART:20260530T070000
DTEND:20260531T235900
LOCATION:Fort William\, GBR
URL:https://www.whwchallengerace.co.uk
CATEGORIES:Ultramarathon
CONTACT:Jim Drummond
CLASS:PUBLIC
PRIORITY:5
TRANSP:OPAQUE
END:VEVENT
END:VCALENDAR
