BEGIN:VCALENDAR
PRODID:-//http://statistik.d-u-v.org//PHP ultracalendar//EN
VERSION:2.0
METHOD:PUBLISH
BEGIN:VEVENT
DTSTAMP:20260422T093308
CREATED:20251119T190616
UID:1776850388.0.59224300-124074@statistik.d-u-v.org
SUMMARY:Long Night in Landsford
DESCRIPTION: Long Night in Landsford\n
  \n
  wgrpo85@gmail.com
DTSTART:20251115T173000
DTEND:20251116T080000
LOCATION:Enoree, SC\, USA
URL:https://runsignup.com/Race/SC/Enoree/LongNightinLanford
CATEGORIES:Ultramarathon
CONTACT:
CLASS:PUBLIC
PRIORITY:5
TRANSP:OPAQUE
END:VEVENT
END:VCALENDAR
