BEGIN:VCALENDAR
PRODID:-//http://statistik.d-u-v.org//PHP ultracalendar//EN
VERSION:2.0
METHOD:PUBLISH
BEGIN:VEVENT
DTSTAMP:20260422T231435
CREATED:20251119T184651
UID:1776899675.0.00374800-124072@statistik.d-u-v.org
SUMMARY:Best Day Ever Ultra
DESCRIPTION: Best Day Ever Ultra\n
  \n
  
DTSTART:20251115T080000
DTEND:00000000T235900
LOCATION:Davis, OK\, USA
URL:https://ultrasignup.com/register.aspx?did=129331
CATEGORIES:Ultramarathon
CONTACT:
CLASS:PUBLIC
PRIORITY:5
TRANSP:OPAQUE
END:VEVENT
END:VCALENDAR
